BEGIN:VCALENDAR
VERSION:2.0
PRODID:-//hacksw/handcal//NONSGML v1.0//EN
BEGIN:VEVENT
SUMMARY:Semi marathon de Montargis
UID:03ee821b-74d7-45f5-8e0c-cf25ad71d1e7
DTSTART:20260307T230000Z
DTEND:20260308T230000Z
LOCATION:Localisation   
CATEGORIES:Sportif
STATUS:
URL;VALUE=URI:https://acjnerac.sportsregions.fr/evenements/2026/03/08/semi-marathon-de-montargis-2425571
END:VEVENT
END:VCALENDAR
