BEGIN:VCALENDAR
VERSION:2.0
PRODID:-//hacksw/handcal//NONSGML v1.0//EN
BEGIN:VEVENT
SUMMARY:Marathon de Paris
UID:1f3f2adf-5728-4342-9917-9bf540f5675f
DTSTART:20260411T220000Z
DTEND:20260412T220000Z
LOCATION:Localisation   
CATEGORIES:Sportif
STATUS:
URL;VALUE=URI:https://acjnerac.sportsregions.fr/evenements/2026/04/12/marathon-de-paris-2440887
END:VEVENT
END:VCALENDAR
